BEGIN:VCALENDAR
VERSION:2.0
PRODID:-//Club Innovation &amp; Culture CLIC France - ECPv6.15.20//NONSGML v1.0//EN
CALSCALE:GREGORIAN
METHOD:PUBLISH
X-ORIGINAL-URL:https://www.club-innovation-culture.fr
X-WR-CALDESC:Évènements pour Club Innovation &amp; Culture CLIC France
REFRESH-INTERVAL;VALUE=DURATION:PT1H
X-Robots-Tag:noindex
X-PUBLISHED-TTL:PT1H
BEGIN:VTIMEZONE
TZID:Europe/Helsinki
BEGIN:DAYLIGHT
TZOFFSETFROM:+0200
TZOFFSETTO:+0300
TZNAME:EEST
DTSTART:20250330T010000
END:DAYLIGHT
BEGIN:STANDARD
TZOFFSETFROM:+0300
TZOFFSETTO:+0200
TZNAME:EET
DTSTART:20251026T010000
END:STANDARD
BEGIN:DAYLIGHT
TZOFFSETFROM:+0200
TZOFFSETTO:+0300
TZNAME:EEST
DTSTART:20260329T010000
END:DAYLIGHT
BEGIN:STANDARD
TZOFFSETFROM:+0300
TZOFFSETTO:+0200
TZNAME:EET
DTSTART:20261025T010000
END:STANDARD
BEGIN:DAYLIGHT
TZOFFSETFROM:+0200
TZOFFSETTO:+0300
TZNAME:EEST
DTSTART:20270328T010000
END:DAYLIGHT
BEGIN:STANDARD
TZOFFSETFROM:+0300
TZOFFSETTO:+0200
TZNAME:EET
DTSTART:20271031T010000
END:STANDARD
END:VTIMEZONE
BEGIN:VEVENT
DTSTART;TZID=Europe/Helsinki:20260129T090000
DTEND;TZID=Europe/Helsinki:20260130T170000
DTSTAMP:20260420T082010
CREATED:20251211T221808Z
LAST-MODIFIED:20251218T164558Z
UID:118479-1769677200-1769792400@www.club-innovation-culture.fr
SUMMARY:Workshop 2026 du Palais des Beaux-Arts de Lille : quelle place pour l’enfant dans les musées au xxie siècle ?\, en partenariat avec le CLIC
DESCRIPTION:Après « Vers un numérique durable et partagé dans nos musées » en 2025 et à l’occasion de l’ouverture du « Musée des Enfants »\, le prochain workshop du Palais des Beaux-Arts aura pour thème la place de l’enfant dans les musées du XXIe siècle\, réinventer les musées d’art avec le jeune public. Il se déroulera le 29 et 30 janvier 2025\, au Palais des Beaux Arts de Lille. \nFace à une société en constante mutation\, comment les musées d’art et de Beaux-Arts peuvent-ils rester en phase avec une jeunesse dont les goûts et les expériences de visites ont profondément évolué ? Comment peuvent-ils rester des acteurs pertinents pour l’expérience sensible et l’acquisition de savoirs ? Longtemps perçus comme des visiteurs « à former » ou « à éduquer »\, les enfants sont aujourd’hui reconnus comme des acteurs de l’espace muséal au même titre que les adultes. \nDu bébé non-marcheur au préadolescent\, les nombreuses expérimentations récentes en matière de médiation « jeune public » montrent que la question de l’enfant (ou des enfants) visiteur.s s’impose avec une acuité nouvelle. \nCe workshop de deux jours invite chercheur·se·s\, professionnel·le·s des musées\, éducateur·trice·s\, médiateur·trice·s à réfléchir ensemble à la place accordée en particulier aux enfants entre 6 et 11 ans dans les musées d’arts et de Beaux-Arts au XXIe siècle. \nQuelles formes de reconnaissance ou d’accompagnement vers l’autonomie les institutions culturelles peuvent-elles offrir à ce public curieux\, inventif\, volontaire mais toujours dépendant d’un adulte ou d’une structure accompagnant.e ? \nComment concilier aménagements spécifiques et inclusion universelle ? Peut-on concevoir des musées non pas « pour » mais « avec » les enfants ? Quel équilibre entre co-construction et expertise professionnelle ? Comment faire résonner les collections avec les enjeux sociétaux contemporains et participer à la construction de leur citoyenneté ? \nAu fil de tables rondes\, d’échanges et de retours d’expériences\, ce workshop ambitionne de croiser regards théoriques et expériences de terrain pour interroger les concepts\, les dispositifs et les stratégies \nCet événement s’inscrit dans le cadre des valeurs « Culture durable et partagée » et « Ville à hauteur d’enfant » portées par la Ville de Lille. \nProgramme complet à consulter et à télécharger : pba.lille.fr/Agenda/WORKSHOP-QUELLE-PLACE-POUR-L-ENFANT-DANS-LES-MUSEES-AU-XXIe-SIECLE \nÉvénement gratuit\, sur inscription : Billetterie | Ville de Lille \nÀ suivre à l’auditorium du Palais des Beaux-Arts de Lille et en ligne.\nPour venir au musée privilégiez les transports collectifs\, le covoiturage ou les mobilités douces. \nwww.club-innovation-culture.fr/workshop-2026-palais-beaux-arts-lille-place-enfant-musees-xxie-siecle-partenariat-clic/ \nSOURCE : PBA de Lille \nPHOTO : PBA de Lille \nDate de première publication : 11/12/25 \nLe PBA de Lille est membre du CLIC
URL:https://www.club-innovation-culture.fr/event/workshop-2026-palais-beaux-arts-lille-place-enfant-musees-xxie-siecle/
CATEGORIES:Activité Partenaires
ATTACH;FMTTYPE=image/jpeg:https://www.club-innovation-culture.fr/wp-content/uploads/pba-workshop-26-photo-horiz.jpg
END:VEVENT
END:VCALENDAR