BEGIN:VCALENDAR
VERSION:2.0
PRODID:-//Club Innovation &amp; Culture CLIC France - ECPv6.15.20//NONSGML v1.0//EN
CALSCALE:GREGORIAN
METHOD:PUBLISH
X-ORIGINAL-URL:https://www.club-innovation-culture.fr
X-WR-CALDESC:Évènements pour Club Innovation &amp; Culture CLIC France
REFRESH-INTERVAL;VALUE=DURATION:PT1H
X-Robots-Tag:noindex
X-PUBLISHED-TTL:PT1H
BEGIN:VTIMEZONE
TZID:Europe/Helsinki
BEGIN:DAYLIGHT
TZOFFSETFROM:+0200
TZOFFSETTO:+0300
TZNAME:EEST
DTSTART:20250330T010000
END:DAYLIGHT
BEGIN:STANDARD
TZOFFSETFROM:+0300
TZOFFSETTO:+0200
TZNAME:EET
DTSTART:20251026T010000
END:STANDARD
BEGIN:DAYLIGHT
TZOFFSETFROM:+0200
TZOFFSETTO:+0300
TZNAME:EEST
DTSTART:20260329T010000
END:DAYLIGHT
BEGIN:STANDARD
TZOFFSETFROM:+0300
TZOFFSETTO:+0200
TZNAME:EET
DTSTART:20261025T010000
END:STANDARD
BEGIN:DAYLIGHT
TZOFFSETFROM:+0200
TZOFFSETTO:+0300
TZNAME:EEST
DTSTART:20270328T010000
END:DAYLIGHT
BEGIN:STANDARD
TZOFFSETFROM:+0300
TZOFFSETTO:+0200
TZNAME:EET
DTSTART:20271031T010000
END:STANDARD
END:VTIMEZONE
BEGIN:VEVENT
DTSTART;VALUE=DATE:20260325
DTEND;VALUE=DATE:20260327
DTSTAMP:20260419T150536
CREATED:20250428T155833Z
LAST-MODIFIED:20260321T134529Z
UID:114977-1774396800-1774569599@www.club-innovation-culture.fr
SUMMARY:Sitem 2026\, 30ème édition du salon international des musées de Paris\, en partenariat avec le CLIC
DESCRIPTION:Sitem 2026\, la 30ème édition du salon international des musées de Paris\, se déroule le mercredi 25 et jeudi 26 mars 2026\, dans le cadre de la 3ème édition de Paris Museum Days\, et en partenariat avec le CLIC. \nDans le cadre de ce partenariat\, la Rencontre Annuelle Culture & Innovation(s) du CLIC aura lieu la veille du salon\, le mardi 24 mars 2026. \nProgramme des conférences et ateliers : www.sitem-2026.com/fr/programme-conferences-ateliers?guest_id=&secret=&register=true \n \nSOURCES: CLIC\, Sitem\, Beaux Arts et cie \nPHOTO: une conférence pendant le Sitem. site web du Sitem. \nDate de première publication: 20/04/2024
URL:https://www.club-innovation-culture.fr/event/sitem-2026-30eme-edition-partenariat-clic-25-26-03-2026/
CATEGORIES:Activité Partenaires
END:VEVENT
BEGIN:VEVENT
DTSTART;TZID=Europe/Helsinki:20260325T093000
DTEND;TZID=Europe/Helsinki:20260325T103000
DTSTAMP:20260419T150536
CREATED:20260309T182050Z
LAST-MODIFIED:20260311T165627Z
UID:120001-1774431000-1774434600@www.club-innovation-culture.fr
SUMMARY:Atelier CLIC X SITEM : "Réinventer la médiation à l’heure de l’hyperconnexion et de l’IA"
DESCRIPTION:Dans le cadre des 30 ans du SITEM\, le CLIC et le SITEM s’associent pour proposer 2 ateliers. Le premier (mercredi 25 mars\, à 9.30) a pour thème « Réinventer la médiation à l’heure de l’hyperconnexion et de l’IA ».  \nÀ l’heure de l’hyperconnexion et de l’essor rapide de l’Intelligence artificielle\, des musées du monde réinventent la médiation en offrant de nouvelles formes de relations visiteurs – œuvres\, réhumanisées\, ralenties et plus sensibles. Lors de cette table-ronde\, quatre responsables de médiation francophones échangent leurs bonnes pratiques\, présentent leurs nouvelles expériences et révèlent leurs projets futurs. \nIntervenants :  \n. Adrien Allier\, Musée des Confluences – Responsable du service programmation scientifique et culturelle \n. Juliette Barthélémy\, Musée du Louvre-Lens – Directrice de la médiation culturelle \n. Sophie Lessard-Latendresse\, Musée national des beaux-arts du Québec – Responsable de la médiation art et mieux-être \n. et 1 autre responsables médiation de musée francophone. \nModération : Pierre-Yves Lochon\, Administrateur\, CLIC \nIl est possible de réserver sa place sur le site du SITEM \nwww.sitem.fr/conferences/reinventer-la-mediation-a-lheure-de-lhyperconnexion-et-de-lia-clic/ \nConférence en partenariat avec le CLIC \nSalle de conférences Delorme \nSOURCES : CLIC\, SITEM \nPhoto : Musée Bourdelle / The Offline Club
URL:https://www.club-innovation-culture.fr/event/atelier-clic-x-sitem-reinventer-la-mediation-mercredi-25-mars-9h30/
CATEGORIES:Activité CLIC France,Activité Partenaires
ATTACH;FMTTYPE=image/jpeg:https://www.club-innovation-culture.fr/wp-content/uploads/musee-bourdelle-soiree-offline-06-25-visiteuses.jpg
END:VEVENT
BEGIN:VEVENT
DTSTART;TZID=Europe/Helsinki:20260325T173000
DTEND;TZID=Europe/Helsinki:20260325T183000
DTSTAMP:20260419T150536
CREATED:20260310T220005Z
LAST-MODIFIED:20260318T103803Z
UID:120002-1774459800-1774463400@www.club-innovation-culture.fr
SUMMARY:Atelier CLIC X SITEM : "3 nouveaux musées du Québec\, 3 visions du musée de demain"
DESCRIPTION:Dans le cadre des 30 ans du SITEM\, le CLIC et le SITEM s’associent pour proposer 2 ateliers. Le second (mercredi 25 mars\, à 17.30) a pour thème « Art contemporain\, holocauste\, chanson : 3 nouveaux musées du Québec\, 3 visions du musée de demain ».  \nEntre 2027 et 2028\, 3 musées vont (ré)ouvrir leurs portes à Montréal : le Musée de l’Holocauste\, le Musée d’art contemporain (MAC) et la Maison de la Chanson et de la musique. La présentation de ces 3 projets est également l’occasion de partager 3 visions innovantes du musée de demain. Scénographie\, médiation\, programmation\, implication des publics et place du numérique … le Québec nous réserve encore de belles surprises à découvrir lors de cette table ronde. \nIntervenants :  \n. Marie-Blanche Fourcade (Cheffe\, conservation et expositions\, Musée de l’Holocauste de Montréal) \n. Stéphan La Roche (Directeur\, Musée d’art contemporain MAC de Montréal) \n. et Julien Silvestre (Directeur\, Maison de la chanson et de la musique du Québec). \nModération : Pierre-Yves Lochon (Administrateur\, CLIC) \nConférence en partenariat avec le CLIC et la Société des Musées du Québec \nSalle de conférences Delorme \nwww.sitem.fr/ateliers/table-ronde-art-contemporain-holocauste-chanson-3-nouveaux-musee-au-quebec-3-visions-du-musee-de-demain/ \nSOURCES : CLIC\, SITEM \nPhoto : nouveau musée de l’Holocauste de Montréal
URL:https://www.club-innovation-culture.fr/event/atelier-clic-x-sitem-3-nouveaux-musees-quebec-25-mars-26-17h30/
CATEGORIES:Activité CLIC France,Activité Partenaires
END:VEVENT
END:VCALENDAR