BEGIN:VCALENDAR
VERSION:2.0
PRODID:-//Club Innovation &amp; Culture CLIC France - ECPv6.15.20//NONSGML v1.0//EN
CALSCALE:GREGORIAN
METHOD:PUBLISH
X-WR-CALNAME:Club Innovation &amp; Culture CLIC France
X-ORIGINAL-URL:https://www.club-innovation-culture.fr
X-WR-CALDESC:Évènements pour Club Innovation &amp; Culture CLIC France
REFRESH-INTERVAL;VALUE=DURATION:PT1H
X-Robots-Tag:noindex
X-PUBLISHED-TTL:PT1H
BEGIN:VTIMEZONE
TZID:Europe/Helsinki
BEGIN:DAYLIGHT
TZOFFSETFROM:+0200
TZOFFSETTO:+0300
TZNAME:EEST
DTSTART:20220327T010000
END:DAYLIGHT
BEGIN:STANDARD
TZOFFSETFROM:+0300
TZOFFSETTO:+0200
TZNAME:EET
DTSTART:20221030T010000
END:STANDARD
BEGIN:DAYLIGHT
TZOFFSETFROM:+0200
TZOFFSETTO:+0300
TZNAME:EEST
DTSTART:20230326T010000
END:DAYLIGHT
BEGIN:STANDARD
TZOFFSETFROM:+0300
TZOFFSETTO:+0200
TZNAME:EET
DTSTART:20231029T010000
END:STANDARD
BEGIN:DAYLIGHT
TZOFFSETFROM:+0200
TZOFFSETTO:+0300
TZNAME:EEST
DTSTART:20240331T010000
END:DAYLIGHT
BEGIN:STANDARD
TZOFFSETFROM:+0300
TZOFFSETTO:+0200
TZNAME:EET
DTSTART:20241027T010000
END:STANDARD
END:VTIMEZONE
BEGIN:VEVENT
DTSTART;TZID=Europe/Helsinki:20231003T153000
DTEND;TZID=Europe/Helsinki:20231003T163000
DTSTAMP:20260422T112333
CREATED:20230917T154631Z
LAST-MODIFIED:20230917T155245Z
UID:102108-1696347000-1696350600@www.club-innovation-culture.fr
SUMMARY:Caring Museum Café\, rencontre en ligne dédiée au bien être au musée. Invité : le musée des beaux arts de Montréal
DESCRIPTION:Caring Museum Café\, la série de rencontres en ligne dédiées au bien être au musée se poursuit à  l’invitation de Marjan Abadie (Mindful art)\, et en partenariat avec le CLIC. \nEn octobre 2023\, le 3\, à  15.30\, l’invité de la session sera le musée des beaux arts de Montréal et ses deux spécialistes bien-être / mieux-être à  la Direction de l’Education:   Claire Thiboutot (Chef Art-thérapie et Mieux-être) et Stephen Legari (Art Therapist). \nCaring Museum Café est un format de table ronde en ligne qui offre une occasion unique d’échanger et de partager des idées novatrices afin de proposer des expériences muséales toujours plus enrichissantes  pour le public. \nRéservation en ligne sur ce lien: https://mindful-art.eu/caring-museum \nSOURCE: Caring Museum \nPHOTO: Caring Museum
URL:https://www.club-innovation-culture.fr/event/caring-museum-cafe-rencontre-mbam-03-oct-2023/
CATEGORIES:Activité Partenaires
ATTACH;FMTTYPE=image/png:https://www.club-innovation-culture.fr/wp-content/uploads/caring-museum-sessions-3-10-2023-mbam.jp_.png
END:VEVENT
END:VCALENDAR