BEGIN:VCALENDAR
VERSION:2.0
PRODID:-//Club Innovation &amp; Culture CLIC France - ECPv6.15.20//NONSGML v1.0//EN
CALSCALE:GREGORIAN
METHOD:PUBLISH
X-ORIGINAL-URL:https://www.club-innovation-culture.fr
X-WR-CALDESC:Évènements pour Club Innovation &amp; Culture CLIC France
REFRESH-INTERVAL;VALUE=DURATION:PT1H
X-Robots-Tag:noindex
X-PUBLISHED-TTL:PT1H
BEGIN:VTIMEZONE
TZID:Europe/Helsinki
BEGIN:DAYLIGHT
TZOFFSETFROM:+0200
TZOFFSETTO:+0300
TZNAME:EEST
DTSTART:20180325T010000
END:DAYLIGHT
BEGIN:STANDARD
TZOFFSETFROM:+0300
TZOFFSETTO:+0200
TZNAME:EET
DTSTART:20181028T010000
END:STANDARD
BEGIN:DAYLIGHT
TZOFFSETFROM:+0200
TZOFFSETTO:+0300
TZNAME:EEST
DTSTART:20190331T010000
END:DAYLIGHT
BEGIN:STANDARD
TZOFFSETFROM:+0300
TZOFFSETTO:+0200
TZNAME:EET
DTSTART:20191027T010000
END:STANDARD
BEGIN:DAYLIGHT
TZOFFSETFROM:+0200
TZOFFSETTO:+0300
TZNAME:EEST
DTSTART:20200329T010000
END:DAYLIGHT
BEGIN:STANDARD
TZOFFSETFROM:+0300
TZOFFSETTO:+0200
TZNAME:EET
DTSTART:20201025T010000
END:STANDARD
BEGIN:DAYLIGHT
TZOFFSETFROM:+0200
TZOFFSETTO:+0300
TZNAME:EEST
DTSTART:20210328T010000
END:DAYLIGHT
BEGIN:STANDARD
TZOFFSETFROM:+0300
TZOFFSETTO:+0200
TZNAME:EET
DTSTART:20211031T010000
END:STANDARD
END:VTIMEZONE
BEGIN:VEVENT
DTSTART;TZID=Europe/Helsinki:20201112T143000
DTEND;TZID=Europe/Helsinki:20201112T170000
DTSTAMP:20260420T170733
CREATED:20201105T130645Z
LAST-MODIFIED:20201109T095714Z
UID:74962-1605191400-1605200400@www.club-innovation-culture.fr
SUMMARY:1er Atelier webinar Clic France  «  Visites scolaires numériques: nouveaux outils\, nouvelles pratiques   »
DESCRIPTION:Le jeudi 12 novembre 2020\, le premier atelier webinar du Clic France sera consacré au thème  «  Visites scolaires numériques: nouveaux outils\, nouvelles pratiques   ». \nAvec les interventions: \n. du musée de la Grande Guerre de Meaux \n. du musée de la Préhistoire d’Ile de France (Nemours) \n. et de 2 musées canadiens. \nAtelier réservé aux membres du Clic France.  \nInscription obligatoire: webinar@club-innovation-culture.fr \nAtelier webinar Clic France 1: Â«Visites scolaires numÃ©riques: nouveaux outils\, nouvelles pratiquesÂ» – 12 novembre 2020 \n \nLe 12 novembre 2020\, le CLIC France lance ses ateliers webinar thématiques \nLe 12 novembre 2020\, le CLIC France lance ses ateliers webinar thÃ©matiques
URL:https://www.club-innovation-culture.fr/event/atelier-webinar-clic-1-visites-scolaires-numeriques/
CATEGORIES:Activité CLIC France
ATTACH;FMTTYPE=image/png:https://www.club-innovation-culture.fr/wp-content/uploads/musÃ©e-grande-guere-meaux-visite-robot-1-1.png
END:VEVENT
BEGIN:VEVENT
DTSTART;TZID=Europe/Helsinki:20200923T100000
DTEND;TZID=Europe/Helsinki:20200923T120000
DTSTAMP:20260420T170733
CREATED:20200911T110412Z
LAST-MODIFIED:20200911T110412Z
UID:73096-1600855200-1600862400@www.club-innovation-culture.fr
SUMMARY:Atelier Clic France : NewImages Festival sur le thème "culture & XR"
DESCRIPTION:Pour la seconde année\, le CLIC France sera l’un des partenaires du NewImages Festival\, organisé par le Forum des Images.  \nPour cette 3e édition du festival\, le CLIC France co-organisera\, le jeudi 23 septembre 2020\, de 10.00 à  12.00\, un événement professionnel autour de « la culture et des expériences XR ».  \nProgramme – Inscription. \n 
URL:https://www.club-innovation-culture.fr/event/atelier-clic-france-newimages-festival-sur-le-theme-culture-xr/
CATEGORIES:Activité Partenaires
ATTACH;FMTTYPE=image/jpeg:https://www.club-innovation-culture.fr/wp-content/uploads/paris-musÃ©es-nouveau-musÃ©e-libÃ©ration-image-expÃ©rience-hololens-2.jpg
END:VEVENT
BEGIN:VEVENT
DTSTART;VALUE=DATE:20200923
DTEND;VALUE=DATE:20200928
DTSTAMP:20260420T170733
CREATED:20191215T131822Z
LAST-MODIFIED:20200917T111410Z
UID:68098-1600819200-1601251199@www.club-innovation-culture.fr
SUMMARY:NewImages Festival - Forum des Images - Paris
DESCRIPTION:Pour la seconde année\, le CLIC France sera l’un des partenaires du NewImages Festival\, organisé par le Forum des Images. \nLa 3e édition du festival initialement programmée du 10-14 juin 2020 a été reportée au 23-27 septembre 2020.  \nLe CLIC France est doublement partenaire: \n. le mercredi 23 septembre 2020\, de 10.00 à  12.00\, il co-organisera un événement professionnel autour de « la culture et des expériences XR ». Programme – Inscription. \n. pendant toute la durée du festival\, le CLIC France a initié avec la société Ubisoft un espace démonstration VR destiné au grand public et consacré au patrimoine. Sous la canopée du Forum des Halles\, les visiteurs pourront notamment explorer en réalité virtuelle Notre Dame\, Pompei et d’autres sites culturels. Programme détaillé communiqué prochainement. \n  \nAtelier professionnel et dÃ©mos grand public: le CLIC France a nouveau partenaire du NewImages Festival 2020 \n \n  \nhttps://newimagesfestival.com/
URL:https://www.club-innovation-culture.fr/event/festival-new-images-forum-des-images-paris/
CATEGORIES:Activité Partenaires
ATTACH;FMTTYPE=image/jpeg:https://www.club-innovation-culture.fr/wp-content/uploads/new-images-2020-festival-banner.jpg
END:VEVENT
BEGIN:VEVENT
DTSTART;TZID=Europe/Helsinki:20200428T140000
DTEND;TZID=Europe/Helsinki:20200428T140000
DTSTAMP:20260420T170733
CREATED:20200415T181606Z
LAST-MODIFIED:20200419T182442Z
UID:70934-1588082400-1588082400@www.club-innovation-culture.fr
SUMMARY:Webinar #2 SmArtapps - Clic France sur le thème "Confinement: éviter la routine\, augmenter l'engagement"
DESCRIPTION:Après le succès du 1er webinar du  9 avril 2020\, à  14.00 sur le thème  « le musée est fermé: qu’est ce qu’on fait ?  »\, un second webinar sera organisé le 28 avril 2020 sur le thème « Confinement: éviter la routine\, augmenter l’engagement ». \nLe 9 avril 2020\, près de 200 professionnels ont assisté à  la discussion interactive et ont ainsi dialogué avec Muriel Jaby (Musée d’Art Contemporain de Lyon)\, Sophie Toulouze (Nancy Musées) et Loà¯se Cuendet (Musée Cantonal des Beaux-Arts Lausanne). \nLa captation vidéo de la première session du webinar (durée: 1H14) est en ligne sur le site du Clic France. \n  \nhttp://www.club-innovation-culture.fr/webinar-smartapps-sinapses-conseils-confinement/
URL:https://www.club-innovation-culture.fr/event/webinar-2-smartapps-clic-france-sur-le-theme-confinement-eviter-la-routine-augmenter-lengagement/
CATEGORIES:Activité Partenaires
ATTACH;FMTTYPE=image/jpeg:https://www.club-innovation-culture.fr/wp-content/uploads/smartapps-webinar-2-invitation_logo.jpeg.jpg
END:VEVENT
BEGIN:VEVENT
DTSTART;TZID=Europe/Helsinki:20200401T080000
DTEND;TZID=Europe/Helsinki:20200402T170000
DTSTAMP:20260420T170733
CREATED:20191120T102446Z
LAST-MODIFIED:20200313T143314Z
UID:67515-1585728000-1585846800@www.club-innovation-culture.fr
SUMMARY:REPORT DES RNCI 2020
DESCRIPTION:Les RNCI 2020 initialement programmées les 1er et 2 avril 2020 sont reportées.   \nNous avons pris cette décision le 10 mars 2020\, par mesure de précaution\, pour des motifs de sécurité mais également de sérénité\, dans le contexte évident de l’épidémie du Covid-19. \nNous préférions en effet prendre les devants et vous annuler dès maintenant\, plutôt que d’avoir à  annuler l’événement au dernier moment. La décision du gouvernement d’interdire les rassemblements de plus de 100 personnes nous a donné raison. \nNous travaillons avec nos partenaires sur une nouvelle date\, en octobre 2020\, que nous vous confirmerons dès qu’elle sera arrêtée. \nEn espérant pouvoir vous accueillir très vite aux RNCI 2020 ! \n  \nRNCI 2020\, mercredi 1er avril et jeudi 2 avril 2020 / Report de lâ€™Ã©vÃ©nement
URL:https://www.club-innovation-culture.fr/event/save-the-date-rnci-2020-a-la-cite-des-sciences-et-de-lindustrie/
CATEGORIES:Activité CLIC France
ATTACH;FMTTYPE=image/jpeg:https://www.club-innovation-culture.fr/wp-content/uploads/universcience-csm_3860_Copyright_Ph_Levy-EPPDCSI__53__7fa1bf2d80.jpg
END:VEVENT
BEGIN:VEVENT
DTSTART;TZID=Europe/Helsinki:20200117T093000
DTEND;TZID=Europe/Helsinki:20200117T130000
DTSTAMP:20260420T170733
CREATED:20191208T143731Z
LAST-MODIFIED:20200108T191126Z
UID:67890-1579253400-1579266000@www.club-innovation-culture.fr
SUMMARY:REPORT / Atelier CLIC France "Audioguide\, expériences immersives\, podcast: les nouvelles narrations sonores au service de la communication et de la médiation"
DESCRIPTION:En raison des incertitudes sur les transports\, nous sommes contraints de reporter le 1er Atelier CLIC France 2020 sur le thème : « Audioguide\, expériences immersives\, podcast: les nouvelles narrations sonores au service de la communication et de la médiation »\, initialement prévu le 17/01/2020. \nL’atelier sera programmé à  une date ultérieure\, durant la première semaine de mars 2020. \navec les interventions des institutions et entreprises:   \n. Musée d’Orsay \n. Audiovisit \n. Narrative \n. Akken. \n  \nAtelier réservé aux membres du CLIC France à  jour de leur inscription. \nInscription obligatoire en ligne: ateliers@club-innovation-culture.fr \n 
URL:https://www.club-innovation-culture.fr/event/atelier-clic-france-audioguide-experiences-immersives-podcast-les-nouvelles-narrations-sonores-au-service-de-la-communication-et-de-la-mediation/
CATEGORIES:Activité CLIC France
ATTACH;FMTTYPE=image/jpeg:https://www.club-innovation-culture.fr/wp-content/uploads/philharmonie-de-paris-expo-pierre-et-gilles-visiteurs-5.jpg
END:VEVENT
BEGIN:VEVENT
DTSTART;TZID=Europe/Helsinki:20191114T090000
DTEND;TZID=Europe/Helsinki:20191115T170000
DTSTAMP:20260420T170733
CREATED:20190625T140351Z
LAST-MODIFIED:20191110T180052Z
UID:66150-1573722000-1573837200@www.club-innovation-culture.fr
SUMMARY:Forum régional du CLIC France à  Nà®mes
DESCRIPTION:Pour clôturer son année de dixième anniversaire\, le CLIC France s’associe au musée de la Romanité et à  la ville de Nimes pour organiser son Forum régional 2019. \nPhoto: wikipedia commons \n  \nForum rÃ©gional du CLIC France Ã  NÃ®mes\, le 14 et 15 novembre 2019 / plus de 180 inscrits
URL:https://www.club-innovation-culture.fr/event/forum-regional-du-clic-france-a-nimes/
LOCATION:musée de la romanité
CATEGORIES:Activité CLIC France
ATTACH;FMTTYPE=image/jpeg:https://www.club-innovation-culture.fr/wp-content/uploads/MusÃ©e-de-la-RomanitÃ©-Vue_densemble.jpg
END:VEVENT
BEGIN:VEVENT
DTSTART;TZID=Europe/Helsinki:20191018T100000
DTEND;TZID=Europe/Helsinki:20191018T100000
DTSTAMP:20260420T170733
CREATED:20191014T130143Z
LAST-MODIFIED:20191014T130143Z
UID:66704-1571392800-1571392800@www.club-innovation-culture.fr
SUMMARY:STREAM DAYS\, Rencontres web vidéo et créations Matinée professionnelle "Comment émerger en 2019 sur Internet ?"
DESCRIPTION:9h – 10h : petit déjeuner d’accueil et networking\n10h – 12h : table ronde « Comment émerger en 2019 sur Internet ? » \nAvec la participation de : \n\nManon Bril\, créatrice de la chaà®ne  €œC’est une autre histoire € ;\nJulien Neutres\, Directeur de la création\, des territoires et des publics\, CNC ;\nVéronique Bourlon\, Directrice de l’action culturelle\, Scam ;\nVladimir Feral\, producteur de « T.A.C« \, websérie lauréate du Grand Prix Frames – CNC / Talent ;\nValérie Anne Expert\, responsable du service de l’action culturelle\, SACD ;\nJulien Neutres\, Directeur de la création\, des territoires et des publics\, CNC\n\nComment émerger en tant que vidéastes ? Quelles aides\, quels mécanismes pourraient préserver et encourager la diversité des contenus ? Peut-on seulement garantir que la création web vidéo ne finira pas aux mains de celles et ceux qui font tout simplement le plus d’audience ? \nInscription gratuite obligatoire sur le site eventbrite \n ˜… ˜… ˜… ˜… ˜… ˜… ˜… ˜… ˜… ˜… ˜… ˜… \nStream Days (18 et 19 octobre 2019) est le nouvel événement du Forum des images dédié aux créations web vidéo. Au programme : rencontres avec des YouTubeurs.e.s et vidéastes\, master class\, avant-premières\, tables rondes et séances de dédicaces ! \n#StreamDays\nToute la programmation :  http://bit.ly/StreamDaysFDI\nMatinée pro : entrée gratuite\, sur inscription\nNous contacter : developpement-numerique@forumdesimages.fr \nEn partenariat avec CLIC Club Innovation & Culture France \n#Tech  #pro  #Youtuber #Youtubeuse #vidéastes
URL:https://www.club-innovation-culture.fr/event/stream-days-rencontres-web-video-et-creations-matinee-professionnelle-comment-emerger-en-2019-sur-internet/
CATEGORIES:Activité Partenaires
ATTACH;FMTTYPE=image/jpeg:https://www.club-innovation-culture.fr/wp-content/uploads/stream-days-2019-36398-stream_site-fdi_745x412.jpg
END:VEVENT
BEGIN:VEVENT
DTSTART;TZID=Europe/Helsinki:20190927T090000
DTEND;TZID=Europe/Helsinki:20190927T170000
DTSTAMP:20260420T170733
CREATED:20190618T155900Z
LAST-MODIFIED:20190625T135255Z
UID:66064-1569574800-1569603600@www.club-innovation-culture.fr
SUMMARY:Journée CLIC France 10 ans sur le thème  « Médiation & innovation(s)  »
DESCRIPTION:Dans le cadre de ses 10 ans\, le CLIC France organise une série d’événements sur 10 ans d’évolution et d’innovations dans le secteur du patrimoine artistique\, historique et scientifique. \nLa première journée a eu lieu le vendredi 17 mai 2019 au Musée Picasso Paris et portera sur le thème  «  Communication & innovation(s)   ». \nLa seconde journée aura eu lieu le vendredi 27 septembre 2019 à  la BNF Tolbiac et portera sur le thème  «  Médiation & innovation(s)   ». \nLe programme sera mis  en ligne prochainement. \nNombre de places limité à  120. Inscriptions ouvertes  ateliers@club-innovation-culture.fr. \nPhoto: BNF \nVendredi 27 septembre 2019: 2nde JournÃ©e CLIC France 10 ans sur le thÃ¨me Â« mÃ©diation & innovation(s) Â» Ã  la BnF / 75 institutions et entreprises inscrites
URL:https://www.club-innovation-culture.fr/event/journee-clic-france-10-ans-sur-le-theme-mediation-innovations/
CATEGORIES:Activité CLIC France
ATTACH;FMTTYPE=image/jpeg:https://www.club-innovation-culture.fr/wp-content/uploads/bnf-tolbiac-photo.jpg
END:VEVENT
BEGIN:VEVENT
DTSTART;TZID=Europe/Helsinki:20190619T090000
DTEND;TZID=Europe/Helsinki:20190619T170000
DTSTAMP:20260420T170733
CREATED:20190511T213807Z
LAST-MODIFIED:20190511T221200Z
UID:65288-1560934800-1560963600@www.club-innovation-culture.fr
SUMMARY:Premier Forum international sur la réalité virtuelle et les institutions culturelles
DESCRIPTION:Dans le cadre de ses 10 ans\, le CLIC France s’associe au Forum des Images pour organiser le premier Forum France Royaume Uni sur la réalité virtuelle et les institutions culturelles. Le Royaume Uni sera l’invité d’honneur de cette journée d’étude qui se déroulera le mercredi 19 juin 2019\, dans le cadre du 2nd Festival New Images.   \nCette journée est réservée aux professionnels des institutions culturelles françaises. \nPremier Forum international sur la rÃ©alitÃ© virtuelle et les institutions culturelles organisÃ© par le Festival NewImages et le CLIC France / 10 derniÃ¨res places disponibles \n \n  \nLe CNC dÃ©voile une Ã©tude inÃ©dite sur la pratique et le potentiel de la rÃ©alitÃ© virtuelle et des expÃ©riences immersives
URL:https://www.club-innovation-culture.fr/event/premier-forum-france-royaume-uni-sur-la-realite-virtuelle-et-les-institutions-culturelles/
CATEGORIES:Activité CLIC France,Activité Partenaires
ATTACH;FMTTYPE=image/jpeg:https://www.club-innovation-culture.fr/wp-content/uploads/citÃ©-archi-kheops.jpeg
END:VEVENT
BEGIN:VEVENT
DTSTART;TZID=Europe/Helsinki:20190517T093000
DTEND;TZID=Europe/Helsinki:20190517T173000
DTSTAMP:20260420T170733
CREATED:20190411T103750Z
LAST-MODIFIED:20190512T220425Z
UID:64764-1558085400-1558114200@www.club-innovation-culture.fr
SUMMARY:Journée CLIC France 10 ans sur le thème "Communication & innovation(s)"
DESCRIPTION:Dans le cadre de ses 10 ans\, le CLIC France organise une série d’événements sur 10 ans d’évolution et d’innovations dans le secteur du patrimoine artistique\, historique et scientifique. \nLa première journée aura lieu le vendredi 17 mai 2019 au Musée Picasso Paris et portera sur le thème « Communication & innovation(s) ». \nLe programme est en ligne. \nNombre de places limité à  90. Inscriptions ouvertes en ligne. \nPhoto: boutiquedesmusees.fr \nVendredi 17 mai 2019: 1Ã¨re JournÃ©e CLIC France 10 ans sur le thÃ¨me “communication & innovation(s)” au MusÃ©e Picasso Paris / 90 inscrits \n \n 
URL:https://www.club-innovation-culture.fr/event/journee-clic-france-10-ans-communication-innovations/
CATEGORIES:Activité CLIC France
ATTACH;FMTTYPE=image/jpeg:https://www.club-innovation-culture.fr/wp-content/uploads/photo-musÃ©e-picasso-facade-boutiquesdesmusees.jpg
END:VEVENT
BEGIN:VEVENT
DTSTART;TZID=Europe/Helsinki:20190108T110000
DTEND;TZID=Europe/Helsinki:20190108T130000
DTSTAMP:20260420T170733
CREATED:20181217T091606Z
LAST-MODIFIED:20181217T091606Z
UID:62440-1546945200-1546952400@www.club-innovation-culture.fr
SUMMARY:Visite de l'Orangerie et démo de la visite VR des Nymphéas
DESCRIPTION:Depuis le 14 novembre 2018\, le Musée de l’Orangerie invite le visiteur à  découvrir l’univers des Nymphéas de Monet dans une exploration immersive en VR. \nà€ l’occasion de l’exposition focus Monet et Clémenceau\, le musée de l’Orangerie propose au public\, du 14 novembre 2018 au 11 mars 2019\, une expérience rare au cœur  de ses collections et de l’un de ses principaux chefs d’oeuvre\, une immersion dans les  Nymphéas de Monet\, de Giverny à  l’Orangerie. \nPour la première fois le chef d’oeuvre de Monet s’explore en immersion  sous la forme d’une expérience en réalité virtuelle. \nA l’entrée de l’exposition focus\, le musée a installé un dispositif de réalité virtuelle qui sera testé par le public pendant quatre mois.  Coiffé d’un casque\, le visiteur est transporté pendant 7 minutes dans un voyage à  Giverny dans le jardin d’eau du peintre. \n €œClaude Monet\, l’obsession des Nymphéas €  est la première expérience en réalité virtuelle proposée par le Musée d’Orsay et de l’Orangerie.\nL’expérience VR a été co-produite par  Lucid Realities\, Arte France et le Musée d’Orsay.  Le dispositif déployé dans le musée de l’Orangerie bénéficie du  soutien financier d’HTC VIVE  et son programme dédié aux arts et à  la culture. \n \nLe  mardi 8 janvier 2019\, de 11.00 à  13.00\, les membres du Clic France sont invités à  une visite de l’Orangerie et à  une démonstration de l’exploration VR\, guidée par l’équipe du musée d’Orsay / Orangeie et de Lucid Realities. \nInscription obligatoire avant le 4/01/2019 à  18h00 : ateliers@club-innovation-culture.fr \nLa visite est réservée aux membres du CLIC France. Le nombre de places est limité à  20 personnes\, et à  2 inscriptions par institution et entreprise. \nPour l’exposition ClÃ©menceau / Monet\, le musÃ©e de l’Orangerie propose une premiÃ¨re immersion en rÃ©alitÃ© virtuelle dans les Nympheas
URL:https://www.club-innovation-culture.fr/event/visite-de-lorangerie-et-demo-de-la-visite-vr-des-nympheas/
CATEGORIES:Activité CLIC France
ATTACH;FMTTYPE=image/jpeg:https://www.club-innovation-culture.fr/wp-content/uploads/orsay-vr-arte-nympheas-3.jpg
END:VEVENT
END:VCALENDAR